BEGIN:VCALENDAR
VERSION:2.0
PRODID:-//Suomen Neuropsykologinen yhdistys - Neuropsykologiska föreningen i Finland r.y. - ECPv6.15.17.1//NONSGML v1.0//EN
CALSCALE:GREGORIAN
METHOD:PUBLISH
X-WR-CALNAME:Suomen Neuropsykologinen yhdistys - Neuropsykologiska föreningen i Finland r.y.
X-ORIGINAL-URL:https://neuropsykologia.fi
X-WR-CALDESC:Tapahtumat Suomen Neuropsykologinen yhdistys - Neuropsykologiska föreningen i Finland r.y.
REFRESH-INTERVAL;VALUE=DURATION:PT1H
X-Robots-Tag:noindex
X-PUBLISHED-TTL:PT1H
BEGIN:VTIMEZONE
TZID:Europe/Helsinki
BEGIN:DAYLIGHT
TZOFFSETFROM:+0200
TZOFFSETTO:+0300
TZNAME:EEST
DTSTART:20230326T010000
END:DAYLIGHT
BEGIN:STANDARD
TZOFFSETFROM:+0300
TZOFFSETTO:+0200
TZNAME:EET
DTSTART:20231029T010000
END:STANDARD
BEGIN:DAYLIGHT
TZOFFSETFROM:+0200
TZOFFSETTO:+0300
TZNAME:EEST
DTSTART:20240331T010000
END:DAYLIGHT
BEGIN:STANDARD
TZOFFSETFROM:+0300
TZOFFSETTO:+0200
TZNAME:EET
DTSTART:20241027T010000
END:STANDARD
BEGIN:DAYLIGHT
TZOFFSETFROM:+0200
TZOFFSETTO:+0300
TZNAME:EEST
DTSTART:20250330T010000
END:DAYLIGHT
BEGIN:STANDARD
TZOFFSETFROM:+0300
TZOFFSETTO:+0200
TZNAME:EET
DTSTART:20251026T010000
END:STANDARD
END:VTIMEZONE
BEGIN:VEVENT
DTSTART;VALUE=DATE:20241018
DTEND;VALUE=DATE:20241021
DTSTAMP:20260420T151559
CREATED:20231112T165508Z
LAST-MODIFIED:20240424T135506Z
UID:1792-1729209600-1729468799@neuropsykologia.fi
SUMMARY:The 62nd Annual Meeting of the Academy of Aphasia
DESCRIPTION:Dear friends and colleagues\, \nThe 62st Annual Meeting of the Academy of Aphasia will be held in Nara\, Japan from October 18-20\, 2024. \n  \nThe abstract submission deadline will be in May 2024. Keep an eye out for the Call for Papers early 2024. \n  \nTo propose a symposium\, you may contact the Program Committee chairs via email (academyofaphasia.program@gmail.com)\, even prior to the release of the Call for Papers. \n  \nThe 2024 Program Committee\, \nAdrià Rofes (chair)\, Shari Baum (chair)\, Aneta Kielar (vice-chair)\, Eva Kehayia (vice-chair)\, Elena Barbieri\, Gabriele Miceli\, Silvia Martínez-Ferreiro.
URL:https://neuropsykologia.fi/tapahtuma/the-62nd-annual-meeting-of-the-academy-of-aphasia/
CATEGORIES:Muut tapahtumat
END:VEVENT
END:VCALENDAR