BEGIN:VCALENDAR
VERSION:2.0
PRODID:-//Suomen Neuropsykologinen yhdistys - Neuropsykologiska föreningen i Finland r.y. - ECPv6.15.17.1//NONSGML v1.0//EN
CALSCALE:GREGORIAN
METHOD:PUBLISH
X-WR-CALNAME:Suomen Neuropsykologinen yhdistys - Neuropsykologiska föreningen i Finland r.y.
X-ORIGINAL-URL:https://neuropsykologia.fi
X-WR-CALDESC:Tapahtumat Suomen Neuropsykologinen yhdistys - Neuropsykologiska föreningen i Finland r.y.
REFRESH-INTERVAL;VALUE=DURATION:PT1H
X-Robots-Tag:noindex
X-PUBLISHED-TTL:PT1H
BEGIN:VTIMEZONE
TZID:Europe/Helsinki
BEGIN:DAYLIGHT
TZOFFSETFROM:+0200
TZOFFSETTO:+0300
TZNAME:EEST
DTSTART:20230326T010000
END:DAYLIGHT
BEGIN:STANDARD
TZOFFSETFROM:+0300
TZOFFSETTO:+0200
TZNAME:EET
DTSTART:20231029T010000
END:STANDARD
BEGIN:DAYLIGHT
TZOFFSETFROM:+0200
TZOFFSETTO:+0300
TZNAME:EEST
DTSTART:20240331T010000
END:DAYLIGHT
BEGIN:STANDARD
TZOFFSETFROM:+0300
TZOFFSETTO:+0200
TZNAME:EET
DTSTART:20241027T010000
END:STANDARD
BEGIN:DAYLIGHT
TZOFFSETFROM:+0200
TZOFFSETTO:+0300
TZNAME:EEST
DTSTART:20250330T010000
END:DAYLIGHT
BEGIN:STANDARD
TZOFFSETFROM:+0300
TZOFFSETTO:+0200
TZNAME:EET
DTSTART:20251026T010000
END:STANDARD
END:VTIMEZONE
BEGIN:VEVENT
DTSTART;TZID=Europe/Helsinki:20240513T143000
DTEND;TZID=Europe/Helsinki:20240513T153000
DTSTAMP:20260420T234104
CREATED:20240424T160238Z
LAST-MODIFIED:20240424T160238Z
UID:1937-1715610600-1715614200@neuropsykologia.fi
SUMMARY:SNPY:n webinaari ”Uutta tietoa puheen ja laulun synnystä aivoissa”
DESCRIPTION:Tervetuloa SNPY:n kevään maksuttomaan webinaariin ”Uutta tietoa puheen ja laulun synnystä aivoissa” maanantaina 13.5.2024 klo 14:30-15:30. Luennoitsijana webinaarissa toimii neuropsykologiaan erikoistuva psykologi ja väitöskirjatutkija Anni Pitkäniemi Helsingin yliopistosta. Tilaisuuden puheenjohtajana toimii Jaana Sarajuuri. \n\nWebinaariin ei ole ennakkoilmoittautumista\, sillä kaikki halukkaat SNPY:n jäsenet mahtuvat mukaan kuuntelemaan webinaaria. Linkki webinaariin lähetetään sähköpostilistalle webinaaria edeltävällä viikolla. Webinaarista tehdään tallenne\, joka on katsottavissa kaksi viikkoa webinaarin jälkeen. \nLuennon lopussa on aikaa kysymyksille\, joita voi lähettää luennon aikana tekstimuodossa. Tapahtuma on tarkoitettu ainoastaan SNPY:n jäsenille ja on osallistujille maksuton. Webinaarista ei saa osallistujatodistusta.
URL:https://neuropsykologia.fi/tapahtuma/snpyn-webinaari-uutta-tietoa-puheen-ja-laulun-synnysta-aivoissa/
END:VEVENT
BEGIN:VEVENT
DTSTART;TZID=Europe/Helsinki:20240516T120000
DTEND;TZID=Europe/Helsinki:20240516T160000
DTSTAMP:20260420T234104
CREATED:20240416T165956Z
LAST-MODIFIED:20240416T171439Z
UID:1924-1715860800-1715875200@neuropsykologia.fi
SUMMARY:NEUROLOGIA-SEMINAARI: Muistisairaudet ja oikeustoimikelpoisuuden arviointi – moniammatillisia näkökulmia
DESCRIPTION:Tervetuloa Suomen Alzheimer -tutkimusseuran\, Helsingin yliopiston ja HUS:n järjestämään NEUROLOGIA-SEMINAARIIN: Muistisairaudet ja oikeustoimikelpoisuuden arviointi – moniammatillisia näkökulmia torstaina 16.5.2024 klo 12.00–16.00 Helsingissä Biomedicumissa. Voit osallistua myös etäyhteyden kautta. \n  \n\n\n\nMuistisairaudet ja oikeustoimikelpoisuuden arviointi –moniammatillisia näkökulmia \n\n\n\n\nAika: torstai 16.5.2024 klo 12.00–16.00 \nPaikka:Biomedicum\, luentosali 1 Haartmaninkatu 8\, 00290 Helsinki \nJärjestäjät:Helsingin yliopisto (HY)\, Neurotieteet; HUS\, Aivokeskus\, Neurokeskuksen vastuualueryhmä\, Neurologian linja; Sisätaudit- ja kuntoutus\, Geriatrian linja\, HUS; Suomen Alzheimer-tutkimusseura \nPuheenjohtaja: Johanna Krüger\, LT\, neurologi \nOhjelma \n12.00–12.15 Ilmoittautuminen\, Biomedicum\, luentosali 1 ulkopuolella. \n12.15–12.20 Tilaisuuden avaus.\nJohanna Krüger\, LT\, dosentti\, kliininen opettaja\, neurologi\, OY/OYS \n12.20–13.00 Muistisairaudet oikeuspsykologisena kysymyksenä\, Mervi Jehkonen\, PsT\, dosentti\, oikeuspsykologi\, Tampereen yliopisto \n13.00–13.40 Muistisairauksien vaikutus oikeustoimikelpoisuuteen\nAnna von Nandelstadh\, LL\, geriatri\, Helsingin geriatrian poliklinikka. \n13.40–14.10 Kahvit\, näyttelyyn tutustuminen \n14.10–14.45: Moniammatillisia näkemyksiä edunvalvonnan tarpeen arvioinnista muistisairauksissa\nKaisa Näkki\, varatuomari\, OTM\, väitöskirjatutkija\, UEF \n14.45–15.20: Edunvalvontavaltuutuksen vahvistaminen vai edunvalvojan määrääminen -kuinka prosessit etenevät?\nVisa Lipiäinen\, henkikirjoittaja\, DVV \n15.20–15.50 Paneelikeskustelu ja yleisön kysymyksiä (alustajat) \n15.50–16.00 Keskustelu ja päätössanat pj. Johanna Kroger \n\n\n\n\nTilaisuus on maksullinen; osallistuminen 90e paikan päällä tai etäyhteys. Paikkoja on rajoitetusti\, joten ilmoittautuminen on välttämätön. \n\n\n\n\n\n\nIlmoittaudu 10.5.2024 mennessä käyttäen oheista QR-koodia osoitteessa https://forms.office.com/e/q5sTM81pHx?origin=lprLink tai anu.erakanto@hus.fi. \n\n\n\n\n\n\n\nVoit antaa palautetta tilaisuudesta myöhemmin ilmoitettavalla osoitteella 31.5.24 mennessä.
URL:https://neuropsykologia.fi/tapahtuma/neurologia-seminaari-muistisairaudet-ja-oikeustoimikelpoisuuden-arviointi-moniammatillisia-nakokulmia/
LOCATION:Biomedicum\, Haartmaninkatu 8\, Helsinki\, Haartmaninkatu 8\, Helsinki\, 00290
CATEGORIES:Muiden koulutukset,Muut tapahtumat
END:VEVENT
BEGIN:VEVENT
DTSTART;VALUE=DATE:20240527
DTEND;VALUE=DATE:20240528
DTSTAMP:20260420T234104
CREATED:20240212T230946Z
LAST-MODIFIED:20240327T150739Z
UID:1841-1716768000-1716854399@neuropsykologia.fi
SUMMARY:Traumaterapeuttinen työskentely ja PTSD – turvaa\, toivoa ja toimijuutta
DESCRIPTION:Suomen Neuropsykoterapiayhdistyksen Kevätseminaari 27.5.2024 klo 9.00 – 16.15 \n\n\n\n\nPTSD ja traumaterapeuttinen työskentely – Turvaa\, toivoa ja toimijuutta \n\n\n\n\n\n8.30 – 9.00 9.00 – 9.30 Ilmoittautuminen ja aamukahvi\, Koulutuspäivän avaus \n\n\nJaana Sarajuuri\, Suomen Neuropsykoterapiayhdistyksen puheenjohtaja \nSaana Kiviranta\, kokemusasiantuntija \n\n\n\n\n\n9.30 – 10.15 Traumaperäiset stressihäiriöt\, diagnostiikka ja lääkehoito \nTanja Laukkala\, Dos.\, ylilääkäri\, Traumapsykiatrian poliklinikka HUS Psykiatria\, Mieliala- ja Yleispsykiatrian linja\, johto \n\n\n\n\n10.15 – 10.30 TAUKO \n10.30 – 12.00 Traumaperäisen stressihäiriön psykoterapeuttinen hoito ja auttajien stressireaktiot \nFerdinand Garoff\, PsT\, traumapsykoterapeutti\, oikeuspsykologian erikoistumiskoulutus Traumaterapiakeskus \n\n\n\n\n\n12.00 – 13.00 LOUNASTAUKO \n\n\n\n\n\n13.00 – 14.30 Vakavan traumatisoitumisen neuropsykobiologiaa – hyvän hoidon perusteet \nArja Antervo\, FL\, neuropsykologian erikoispsykologi\, traumapsykoterapeutti Yksityisvastaanotto Monimieli \n14.30-15.00 KAHVITAUKO \n\n\n\n\n\n\n15.00 – 16.00 Turvaa\, toivoa ja toimijuutta – traumatisoitumisen huomioiminen kouluympäristössä \nAnnina Vartio\, psykologi\, traumapsykoterapeutti Yksityisvastaanotto Naarthe \n\n\n\n\n\n16.00 – 16.15 Koulutuspäivän päätös \nJaana Sarajuuri\, Suomen Neuropsykoterapiayhdistyksen puheenjohtaja \n__________________________________________________________________________________________ \nHINTA: Suomen Neuropsykoterapiayhdistyksen jäsenet 120 euroa\, perustutkinto-opiskelijat 50 euroa ja muut 150 euroa (sis. aamu- ja iltapäiväkahvit sekä lounaan paikan päällä osallistuville). \n\n\n\n\n\nPAIKKA: John Nurmisen Säätiön talo (Huolintatalo)\, Pasilankatu 2 A\, 00240 Helsinki https://huolintatalo.fi. Koulutustilaan mahtuu paikan päälle 50 osallistujaa ilmoittautumisjärjestyksessä. Esitykset striimataan\, joten osallistuminen on mahdollista myös etäyhteydellä. Linkki etäyhteydellä osallistuvaksi ilmoittautuneille lähetetään 24.5.2024. Esityksistä tehdään tallenne\, joka on osallistujien katsottavissa kahden viikon ajan. \nILMOITTAUTUMINEN: Viimeistään 20.5.2024 osoitteessa holvi.com/shop/neuropsykoterapiayhdistys/
URL:https://neuropsykologia.fi/tapahtuma/traumaterapeuttinen-tyoskentely-ja-ptsd-turvaa-toivoa-ja-toimijuutta/
LOCATION:John Nurmisen Säätiön talo\, Pasilankatu 2 A\, 00240 Helsinki\, Pasilankatu 2 A\, Helsinki\, 00240
CATEGORIES:Muiden koulutukset,Muut tapahtumat
END:VEVENT
END:VCALENDAR