BEGIN:VCALENDAR
VERSION:2.0
PRODID:-//Suomen Neuropsykologinen yhdistys - Neuropsykologiska föreningen i Finland r.y. - ECPv6.15.17.1//NONSGML v1.0//EN
CALSCALE:GREGORIAN
METHOD:PUBLISH
X-WR-CALNAME:Suomen Neuropsykologinen yhdistys - Neuropsykologiska föreningen i Finland r.y.
X-ORIGINAL-URL:https://neuropsykologia.fi
X-WR-CALDESC:Tapahtumat Suomen Neuropsykologinen yhdistys - Neuropsykologiska föreningen i Finland r.y.
REFRESH-INTERVAL;VALUE=DURATION:PT1H
X-Robots-Tag:noindex
X-PUBLISHED-TTL:PT1H
BEGIN:VTIMEZONE
TZID:Europe/Helsinki
BEGIN:DAYLIGHT
TZOFFSETFROM:+0200
TZOFFSETTO:+0300
TZNAME:EEST
DTSTART:20230326T010000
END:DAYLIGHT
BEGIN:STANDARD
TZOFFSETFROM:+0300
TZOFFSETTO:+0200
TZNAME:EET
DTSTART:20231029T010000
END:STANDARD
BEGIN:DAYLIGHT
TZOFFSETFROM:+0200
TZOFFSETTO:+0300
TZNAME:EEST
DTSTART:20240331T010000
END:DAYLIGHT
BEGIN:STANDARD
TZOFFSETFROM:+0300
TZOFFSETTO:+0200
TZNAME:EET
DTSTART:20241027T010000
END:STANDARD
BEGIN:DAYLIGHT
TZOFFSETFROM:+0200
TZOFFSETTO:+0300
TZNAME:EEST
DTSTART:20250330T010000
END:DAYLIGHT
BEGIN:STANDARD
TZOFFSETFROM:+0300
TZOFFSETTO:+0200
TZNAME:EET
DTSTART:20251026T010000
END:STANDARD
END:VTIMEZONE
BEGIN:VEVENT
DTSTART;TZID=Europe/Helsinki:20240323T130000
DTEND;TZID=Europe/Helsinki:20240323T153000
DTSTAMP:20260421T032652
CREATED:20240109T143713Z
LAST-MODIFIED:20240424T135534Z
UID:1823-1711198800-1711207800@neuropsykologia.fi
SUMMARY:Suomen Neuropsykoterapiayhdistyksen tanssityöpaja 23.3.2024 ”Kehollisuus voimavarana: tanssi elpymisen ja palautumisen keitaana”
DESCRIPTION:Lisätietoja: http://neuropsykoterapia.fi/koulutus/yksittaiset-koulutuspaivat/ \nAjankohta: 23.3.2024 klo 13.00-15.30\nPaikka: Taideyliopiston Teatterikorkeakoulu\, Sörnäisten kampus\, Haapaniemenkatu 6\, Helsinki\nHinta: Suomen Neuropsykoterapiayhdistyksen jäsenet 60 euroa\, muut 80 euroa\nIlmoittautuminen: HOLVI-verkkokauppa https://holvi.com/shop/neuropsykoterapiayhdistys/\nIlmoittautuminen päättyy 1.3.2024\nTyöpajaan mahtuu 25 henkilöä ja se toteutetaan\, mikäli osallistujia on 10. \nLämpimästi tervetuloa! \nSuomen Neuropsykoterapiayhdistyksen hallitus
URL:https://neuropsykologia.fi/tapahtuma/suomen-neuropsykoterapiayhdistyksen-tanssityopaja-23-3-2024-kehollisuus-voimavarana-tanssi-elpymisen-ja-palautumisen-keitaana/
CATEGORIES:Muiden koulutukset,Muut tapahtumat
END:VEVENT
END:VCALENDAR