BEGIN:VCALENDAR
VERSION:2.0
PRODID:-//Suomen Neuropsykologinen yhdistys - Neuropsykologiska föreningen i Finland r.y. - ECPv6.15.17.1//NONSGML v1.0//EN
CALSCALE:GREGORIAN
METHOD:PUBLISH
X-WR-CALNAME:Suomen Neuropsykologinen yhdistys - Neuropsykologiska föreningen i Finland r.y.
X-ORIGINAL-URL:https://neuropsykologia.fi
X-WR-CALDESC:Tapahtumat Suomen Neuropsykologinen yhdistys - Neuropsykologiska föreningen i Finland r.y.
REFRESH-INTERVAL;VALUE=DURATION:PT1H
X-Robots-Tag:noindex
X-PUBLISHED-TTL:PT1H
BEGIN:VTIMEZONE
TZID:Europe/Helsinki
BEGIN:DAYLIGHT
TZOFFSETFROM:+0200
TZOFFSETTO:+0300
TZNAME:EEST
DTSTART:20120325T010000
END:DAYLIGHT
BEGIN:STANDARD
TZOFFSETFROM:+0300
TZOFFSETTO:+0200
TZNAME:EET
DTSTART:20121028T010000
END:STANDARD
BEGIN:DAYLIGHT
TZOFFSETFROM:+0200
TZOFFSETTO:+0300
TZNAME:EEST
DTSTART:20130331T010000
END:DAYLIGHT
BEGIN:STANDARD
TZOFFSETFROM:+0300
TZOFFSETTO:+0200
TZNAME:EET
DTSTART:20131027T010000
END:STANDARD
BEGIN:DAYLIGHT
TZOFFSETFROM:+0200
TZOFFSETTO:+0300
TZNAME:EEST
DTSTART:20140330T010000
END:DAYLIGHT
BEGIN:STANDARD
TZOFFSETFROM:+0300
TZOFFSETTO:+0200
TZNAME:EET
DTSTART:20141026T010000
END:STANDARD
END:VTIMEZONE
BEGIN:VEVENT
DTSTART;VALUE=DATE:20130412
DTEND;VALUE=DATE:20130413
DTSTAMP:20260420T041810
CREATED:20220209T121213Z
LAST-MODIFIED:20220209T121309Z
UID:660-1365724800-1365811199@neuropsykologia.fi
SUMMARY:SNPY:n vuosikokousseminaari 2013: Vuosikokousseminaari: Aivovammat – päivitystä lasten ja aikuisten arviointi- ja hoitokäytännöistä
DESCRIPTION:Suomen neuropsykologisen yhdistyksen vuosikokousseminaari järjestetään 12.4.2013 Helsingissä Folkhälsan talossa (Topeliuksenkatu). Aiheena on aivovammat. Koulutuksen hinta on 100e sisältäen kahdet kahvit ja lounaan. Ilmoittautuminen koulutukseen alkaa 12.2 ja päättyy 29.3. Koulutukseen ilmoittaudutaan oheisen linkin kautta. \nKoulutuslaskut toimitetaan jokaiselle osallistujalle henkilökohtaisesti viimeistään koulutusviikolla. Työnantajalaskutus ei ole enää mahdollinen. 20 ensimmäiseksi ilmoittautunutta saa koulutuspäivänä neuropsykologian käsitteet -kirjan. \nOhjelma \nTervetuloa koulutukseen!
URL:https://neuropsykologia.fi/tapahtuma/snpyn-vuosikokousseminaari-2013-vuosikokousseminaari-aivovammat-paivitysta-lasten-ja-aikuisten-arviointi-ja-hoitokaytannoista/
CATEGORIES:Yhdistyksen omat koulutukset
END:VEVENT
END:VCALENDAR