BEGIN:VCALENDAR
VERSION:2.0
PRODID:-//Suomen Neuropsykologinen yhdistys - Neuropsykologiska föreningen i Finland r.y. - ECPv6.15.17.1//NONSGML v1.0//EN
CALSCALE:GREGORIAN
METHOD:PUBLISH
X-ORIGINAL-URL:https://neuropsykologia.fi
X-WR-CALDESC:Tapahtumat Suomen Neuropsykologinen yhdistys - Neuropsykologiska föreningen i Finland r.y.
REFRESH-INTERVAL;VALUE=DURATION:PT1H
X-Robots-Tag:noindex
X-PUBLISHED-TTL:PT1H
BEGIN:VTIMEZONE
TZID:Europe/Helsinki
BEGIN:DAYLIGHT
TZOFFSETFROM:+0200
TZOFFSETTO:+0300
TZNAME:EEST
DTSTART:20230326T010000
END:DAYLIGHT
BEGIN:STANDARD
TZOFFSETFROM:+0300
TZOFFSETTO:+0200
TZNAME:EET
DTSTART:20231029T010000
END:STANDARD
BEGIN:DAYLIGHT
TZOFFSETFROM:+0200
TZOFFSETTO:+0300
TZNAME:EEST
DTSTART:20240331T010000
END:DAYLIGHT
BEGIN:STANDARD
TZOFFSETFROM:+0300
TZOFFSETTO:+0200
TZNAME:EET
DTSTART:20241027T010000
END:STANDARD
BEGIN:DAYLIGHT
TZOFFSETFROM:+0200
TZOFFSETTO:+0300
TZNAME:EEST
DTSTART:20250330T010000
END:DAYLIGHT
BEGIN:STANDARD
TZOFFSETFROM:+0300
TZOFFSETTO:+0200
TZNAME:EET
DTSTART:20251026T010000
END:STANDARD
END:VTIMEZONE
BEGIN:VEVENT
DTSTART;VALUE=DATE:20240426
DTEND;VALUE=DATE:20240427
DTSTAMP:20260421T032609
CREATED:20240109T141218Z
LAST-MODIFIED:20240223T123734Z
UID:1819-1714089600-1714175999@neuropsykologia.fi
SUMMARY:SNPY:n vuosikokousseminaari 2024: COVID-19 neurologiset ja psykososiaaliset vaikutukset lapsuudesta aikuisuuteen
DESCRIPTION:SNPY järjestää perjantaina 26.4.2024 hybridimuotoisen vuosikokousseminaarin ”COVID-19 neurologiset ja psykososiaaliset vaikutukset lapsuudesta aikuisuuteen”. Seminaariin voi osallistua etänä tai paikan päällä Helsingissä Folkhälsanin Ossian-salissa. Koulutuksen hinta on sekä etänä että läsnä osallistujille 100 € (opiskelija- ja eläkeläisjäsenille sekä työttömille hinta on -50 %). Hinta sisältää lounaan ja kahdet kahvit / streamauksen. Seminaarista tehdään myös videotallenne\, jonka linkki lähetetään kaikille osallistujille seminaarin jälkeen (luennoilla mahdollisesti käsiteltäviä potilastapauksia ei sisällytetä tallenteeseen). \nSeminaarin ilmoittautumisaika päättyy 8.4.2023 klo 23:59. Ilmoittauduthan ajoissa seminaariin\, sillä myöhästyneitä ilmoittautumisia ei valitettavasti voida ottaa vastaan. Seminaarin laskut lähetetään heti ilmoittautumisen päätyttyä\, ja osallistuminen seminaariin edellyttää laskun maksamista. Linkki etäosallistumista varten lähetetään kaikille osallistujille seminaariviikolla ja osallistujatodistus seminaarin jälkeen sähköpostitse jokaiselle osallistujalle nimikoituna. \nPeruutusehdot: Seminaariin osallistumisen voi peruuttaa maksutta ilmoittautumisajan sisällä. Tämän jälkeen tulleista peruutuksista veloitetaan koko osallistumismaksu. \nSNPY:n seminaarit on tarkoitettu yhdistyksen jäsenille\, joten seminaariin osallistuminen edellyttää\, että kuluvan vuoden jäsenmaksu on maksettu. Seminaarin tiedotusviestit lähetetään FloMembers-jäsenrekisterimme kautta jäsenen ilmoittamaan sähköpostiosoitteeseen\, joten tiedotteiden saamiseksi omat jäsentiedot kannattaa pitää ajan tasalla. \nYritysten on mahdollista tulla pitämään seminaariin ständejä hintaan 300 € / päivä / 1 pöytä. Ständin pitäjän osallistumismaksu ei kuulu tähän hintaan. Jos ständin pitäjä on SNPY:n jäsen ja haluaa osallistua myös seminaarin luennoille\, hänen tulee ilmoittautua seminaariin samaan tapaan kuin muidenkin jäsenten. Mikäli yrityksesi on kiinnostunut ostamaan mainosständipaikan seminaariin\, ole yhteydessä SNPY:n koulutussihteeriin (koulutussihteeri.snpy@gmail.com). \nSeminaariin voidaan ottaa kaksi avustajaa. Avustajaksi voivat ilmoittautua neuropsykologiasta kiinnostuneet psykologiharjoittelijat. Jos olet kiinnostunut avustajan tehtävästä tai tiedät tehtävään sopivan psykologiharjoittelijan\, ole yhteydessä koulutussihteeriin (koulutussihteeri.snpy@gmail.com) 26.3.2024 mennessä. \nIlmoittaudu seminaariin tästä linkistä (huom. vaatii kirjautumisen jäsenalueelle). \n  \nOHJELMA \n08:15 – 09:00 ILMOITTAUTUMINEN JA AAMUKAHVI \n09:00 – 09:15 Seminaarin aloitus\nSari Levänen\, SNPY:n puheenjohtaja \n09:15 – 10:00 Vakavasta koronainfektiosta toipuminen\nHenriikka Ollila\, LL\, tehohoidon ja anestesiologian erikoislääkäri\, Tehohoidon linja\, HUS \n10:00 – 11:00 COVID-pandemian psykososiaaliset vaikutukset lapsilla ja aikuisilla (otsikko tarkentuu)\nSaara Nolvi\, FT\, kehityspsykologian dosentti\, psykologi\nErikoistutkija (Sr.)\, InterLearn-huippututkimusyksikkö\nPsykologian ja logopedian laitos\, Turun yliopisto \n11:00 – 11:15 TAUKO \n11:15– 12:00 Koronapandemian ja sen rajoittamistoimien vaikutukset toimintarajoitteisten ihmisten elämään\nMarja Holm\, FT\, VTM\, tutkija\, Väestönterveysyksikkö\, Seurantatiimi\, THL \n12:00 – 13:00 LOUNAS \n13:00 – 13:45 Subjektiiviset ja objektiiviset kognitiiviset vaikeudet COVID-19-taudin jälkeen\nRiikka Pihlaja\, PsL\, neuropsykologian erikoispsykologi\, Neurokeskus\, HUS \n13:45 – 14:15 KAHVITAUKO \n14:15 – 15:15 Long covid ja moniammatillinen kuntoutus\nMarkku Sainio\, LT\, neurologian dos.\, ylilääkäri\, Sisätaudit ja kuntoutus\, Pitkittyneiden oireiden kuntoutuspoliklinikka\, HUS\nTeemu Mäntylä\, PsM\, psykologi\, työterveyspsykologi\, Sisätaudit ja kuntoutus\, Pitkittyneiden oireiden kuntoutuspoliklinikka\, HUS \n15:15 – 15:30 TAUKO \n15:30 – 16:15  Keynote: Rehabilitation of pediatric post-Covid-19\nLaura Malone\, MD\, PhD\, Director of the Pediatric Post-COVID-19 Rehabilitation Clinic\, Kennedy Krieger Institute/assistant professor of Neurology and Physical Medicine and Rehabilitation at the Johns Hopkins University School of Medicine \n16:15 – 16:30 Seminaarin lopetus\nSari Levänen\, SNPY:n puheenjohtaja \n16:45 – SUOMEN NEUROPSYKOLOGISEN YHDISTYKSEN VUOSIKOKOUS
URL:https://neuropsykologia.fi/tapahtuma/snpyn-vuosikokousseminaari-2024-covid-19-neurologiset-ja-psykososiaaliset-vaikutukset-lapsuudesta-aikuisuuteen/
LOCATION:Folkhälsan\, Ossian-sali\, Topeliuksenkatu 20\, Helsinki\, 00250\, Suomi
CATEGORIES:Yhdistyksen omat koulutukset
END:VEVENT
END:VCALENDAR