BEGIN:VCALENDAR
VERSION:2.0
PRODID:-//Suomen Neuropsykologinen yhdistys - Neuropsykologiska föreningen i Finland r.y. - ECPv6.15.17.1//NONSGML v1.0//EN
CALSCALE:GREGORIAN
METHOD:PUBLISH
X-ORIGINAL-URL:https://neuropsykologia.fi
X-WR-CALDESC:Tapahtumat Suomen Neuropsykologinen yhdistys - Neuropsykologiska föreningen i Finland r.y.
REFRESH-INTERVAL;VALUE=DURATION:PT1H
X-Robots-Tag:noindex
X-PUBLISHED-TTL:PT1H
BEGIN:VTIMEZONE
TZID:Europe/Helsinki
BEGIN:DAYLIGHT
TZOFFSETFROM:+0200
TZOFFSETTO:+0300
TZNAME:EEST
DTSTART:20230326T010000
END:DAYLIGHT
BEGIN:STANDARD
TZOFFSETFROM:+0300
TZOFFSETTO:+0200
TZNAME:EET
DTSTART:20231029T010000
END:STANDARD
BEGIN:DAYLIGHT
TZOFFSETFROM:+0200
TZOFFSETTO:+0300
TZNAME:EEST
DTSTART:20240331T010000
END:DAYLIGHT
BEGIN:STANDARD
TZOFFSETFROM:+0300
TZOFFSETTO:+0200
TZNAME:EET
DTSTART:20241027T010000
END:STANDARD
BEGIN:DAYLIGHT
TZOFFSETFROM:+0200
TZOFFSETTO:+0300
TZNAME:EEST
DTSTART:20250330T010000
END:DAYLIGHT
BEGIN:STANDARD
TZOFFSETFROM:+0300
TZOFFSETTO:+0200
TZNAME:EET
DTSTART:20251026T010000
END:STANDARD
END:VTIMEZONE
BEGIN:VEVENT
DTSTART;VALUE=DATE:20240414
DTEND;VALUE=DATE:20240418
DTSTAMP:20260421T032608
CREATED:20231007T111802Z
LAST-MODIFIED:20231007T111818Z
UID:1758-1713052800-1713398399@neuropsykologia.fi
SUMMARY:The Eighth Learning and Plasticity Meeting
DESCRIPTION:THE EIGHTH LEARNING AND PLASTICITY MEETING \nÄkäslompolo\, Finland \nApril 14-17\, 2024 \n  \n• A cross-disciplinary meeting that connects psychological and neuroscience research on the mechanisms of learning and brain plasticity \n• The special theme of the LaP 2024 meeting is “Spatial Cognition”. However\, most of the program will consist of free papers reflecting the broad spectrum of learning and plasticity research \n• The LaP 2024 keynote speakers are: \nNora Newcombe\, Temple University \nChristian Doeller\, The Max Planck Institute for Cognitive and Brain Sciences \nArne Ekstrom\, University of Arizona \n• Informal atmosphere and small size (maximum 60 participants) help to connect participants and promote discussion \n• Symposium proposals can be submitted until November 15\, 2024 \n• Abstract submission deadline December 4\, 2024 \n• Excellent possibilities for winter sports and other outdoor activities \n• Despite of its location way above the Polar Circle\, the congress site is easy to reach by train or by flight \n  \nFor further information\, see the congress website at https://lapmeeting.fi/ \nHope to see you at the Heart of Finnish Lapland in Spring 2024! \n  \n  \nThe LaP Scientific Committee\, \n  \nJuha Salmi\, Aalto University\, Finland (Program Chair) \nMinna Lehtonen\, University of Turku\, Finland (Chair) \nSusanne Jaeggi\, Northeastern University\, USA \nMatti Laine\, Åbo Akademi University\, Finland \nMarcus Meinzer\, University Medicine Greifswald\, Germany \nTeppo Särkämö\, University of Helsinki\, Finland \nSari Ylinen\, University of Tampere\, Finland
URL:https://neuropsykologia.fi/tapahtuma/the-eighth-learning-and-plasticity-meeting/
END:VEVENT
END:VCALENDAR