BEGIN:VCALENDAR
VERSION:2.0
PRODID:-//Suomen Neuropsykologinen yhdistys - Neuropsykologiska föreningen i Finland r.y. - ECPv6.15.17.1//NONSGML v1.0//EN
CALSCALE:GREGORIAN
METHOD:PUBLISH
X-ORIGINAL-URL:https://neuropsykologia.fi
X-WR-CALDESC:Tapahtumat Suomen Neuropsykologinen yhdistys - Neuropsykologiska föreningen i Finland r.y.
REFRESH-INTERVAL;VALUE=DURATION:PT1H
X-Robots-Tag:noindex
X-PUBLISHED-TTL:PT1H
BEGIN:VTIMEZONE
TZID:Europe/Helsinki
BEGIN:DAYLIGHT
TZOFFSETFROM:+0200
TZOFFSETTO:+0300
TZNAME:EEST
DTSTART:20110327T010000
END:DAYLIGHT
BEGIN:STANDARD
TZOFFSETFROM:+0300
TZOFFSETTO:+0200
TZNAME:EET
DTSTART:20111030T010000
END:STANDARD
BEGIN:DAYLIGHT
TZOFFSETFROM:+0200
TZOFFSETTO:+0300
TZNAME:EEST
DTSTART:20120325T010000
END:DAYLIGHT
BEGIN:STANDARD
TZOFFSETFROM:+0300
TZOFFSETTO:+0200
TZNAME:EET
DTSTART:20121028T010000
END:STANDARD
BEGIN:DAYLIGHT
TZOFFSETFROM:+0200
TZOFFSETTO:+0300
TZNAME:EEST
DTSTART:20130331T010000
END:DAYLIGHT
BEGIN:STANDARD
TZOFFSETFROM:+0300
TZOFFSETTO:+0200
TZNAME:EET
DTSTART:20131027T010000
END:STANDARD
END:VTIMEZONE
BEGIN:VEVENT
DTSTART;VALUE=DATE:20121015
DTEND;VALUE=DATE:20121016
DTSTAMP:20260420T204513
CREATED:20220209T121444Z
LAST-MODIFIED:20220209T121444Z
UID:662-1350259200-1350345599@neuropsykologia.fi
SUMMARY:SNPY:n syysseminaari 2012: Muistin ja muistisairauksien neuropsykologiaa
DESCRIPTION:Suomen neuropsykologinen yhdistys järjestää muistisairauksiin liittyvän koulutuspäivän Helsingissä Biomedicumissa (Haartmaninkatu 8 00290 Helsinki) 15.10.2012. \nLuennoimassa mm. Professori Sergio Della Sala aiheinaan: ”Retroactive Interference as an Account for Pathological Forgetting” ja ”Short-term Memory Binding: a cognitive marker of AD”. Muina aiheina mm. Alzheimerin taudin ja MCI:n nykykriteerit ja diagnostiikka\, vaskulaarisen kognitiivisen heikentymän nykykriteerit ja Parkinsonin taudin MCI ja dementia: uudet diagnoosikriteerit neuropsykologisesta näkökulmasta. \nKoulutuksen hinta on 150e sis. lounaat ja kahvit. \nKoulutuspäivän tarkempi ohjelma ohessa. Ilmoittautuminen on avattu ja viimeinen ilmoittautumispäivä on 30.9.2012. Nykyisin voit ilmoittautua vain yhdistyksen sivujen kautta alla olevasta linkistä. Jos olet kadottanut jäsentunnuksesi\, uuden voit tilata webmaster (at) neuropsykologia.fi. Selvitäthän jos työnantajasi vastaanottaa verkkolaskuja. Koulutukseen voi osallistua vain SNPYn jäsenet. \nTervetuloa koulutukseen! \nOhjelma \n9.30-10.00      Ilmoittautuminen ja aamukahvi \n10.00-10.15    Koulutuksen avaus\, Puheenjohtaja Marja Hietanen \n10.15-11.45    Retroactive Interference as an Account for Pathological Forgetting\, Professori Sergio Della Sala \n11.45-13.00    Short-term Memory Binding: a cognitive marker of AD Professori Sergio Della Sala \n13.00-14.00    Lounas \n14.00-14.45    Alzheimerin tauti ja MCI: kriteerit ja neuropsykologiset varhaispiirteet\, Dosentti Tuomo Hänninen \n14.45-15.15    Kahvit \n15.15-16.00   Vaskulaarinen kognitiivinen heikentymä: kriteerit ja neuropsykologiset varhaispiirteet\, PsT Hanna Jokinen-Salmela \n16.00-16.45    Parkinsonin taudin MCI ja dementia: uudet diagnoosikriteerit neuropsykologisesta näkökulmasta\, PsT Mira Karrasch \n16.45-17.00    Keskustelua \nSergion artikkelit \nArtikkeli1 \nArtikkeli2
URL:https://neuropsykologia.fi/tapahtuma/snpyn-syysseminaari-2012-muistin-ja-muistisairauksien-neuropsykologiaa/
CATEGORIES:Yhdistyksen omat koulutukset
END:VEVENT
END:VCALENDAR