BEGIN:VCALENDAR
VERSION:2.0
PRODID:-//Suomen Neuropsykologinen yhdistys - Neuropsykologiska föreningen i Finland r.y. - ECPv6.15.17.1//NONSGML v1.0//EN
CALSCALE:GREGORIAN
METHOD:PUBLISH
X-WR-CALNAME:Suomen Neuropsykologinen yhdistys - Neuropsykologiska föreningen i Finland r.y.
X-ORIGINAL-URL:https://neuropsykologia.fi
X-WR-CALDESC:Tapahtumat Suomen Neuropsykologinen yhdistys - Neuropsykologiska föreningen i Finland r.y.
REFRESH-INTERVAL;VALUE=DURATION:PT1H
X-Robots-Tag:noindex
X-PUBLISHED-TTL:PT1H
BEGIN:VTIMEZONE
TZID:Europe/Helsinki
BEGIN:DAYLIGHT
TZOFFSETFROM:+0200
TZOFFSETTO:+0300
TZNAME:EEST
DTSTART:20110327T010000
END:DAYLIGHT
BEGIN:STANDARD
TZOFFSETFROM:+0300
TZOFFSETTO:+0200
TZNAME:EET
DTSTART:20111030T010000
END:STANDARD
BEGIN:DAYLIGHT
TZOFFSETFROM:+0200
TZOFFSETTO:+0300
TZNAME:EEST
DTSTART:20120325T010000
END:DAYLIGHT
BEGIN:STANDARD
TZOFFSETFROM:+0300
TZOFFSETTO:+0200
TZNAME:EET
DTSTART:20121028T010000
END:STANDARD
BEGIN:DAYLIGHT
TZOFFSETFROM:+0200
TZOFFSETTO:+0300
TZNAME:EEST
DTSTART:20130331T010000
END:DAYLIGHT
BEGIN:STANDARD
TZOFFSETFROM:+0300
TZOFFSETTO:+0200
TZNAME:EET
DTSTART:20131027T010000
END:STANDARD
END:VTIMEZONE
BEGIN:VEVENT
DTSTART;VALUE=DATE:20120504
DTEND;VALUE=DATE:20120526
DTSTAMP:20260421T012040
CREATED:20220209T121829Z
LAST-MODIFIED:20220209T121829Z
UID:668-1336089600-1337990399@neuropsykologia.fi
SUMMARY:Työnohjaajakoulutus
DESCRIPTION:Työnohjaajakoulutusta järjestetään kaksipäiväisen koulutuspäivän merkeissä 4.5 ja 25.5.2012. Kouluttajana toimii PsL\, neuropsykologian erikoispsykologi ja kouluttajapsykoterapeutti Ritva Laaksonen. Koulutus järjestetään Helsingissä Hotelli Arthurissa osoitteessa Vuorikatu 19. Koulutuksen hinta on 360e sisältäen molempien koulutuspäivien tarjoilut lounaineen. Koulutus toteutetaan kokonaisuutena\, joten ilmoittautuessa ilmoittaudut molempiin koulutuspäiviin. Suomen Neuropsykologisen Yhdistyksen erikoistumislautakunnan päätöksellä kahden päivän osallistumisesta kertyy 16 tuntia\ntyönohjaajapätevyyteen. \nKoulutukseen voi ilmoittautua 13.2 alkaen ja ilmoittautuminen päättyy 20.4. Nykyisin voit ilmoittautua vain yhdistyksen sivujen kautta alla olevasta linkistä (avautuu 13.2). Jos olet kadottanut jäsentunnuksesi\, uuden voit tilata täältä. Selvitäthän jos työnantajasi vastaanottaa verkkolaskuja. Koulutukseen voi osallistua vain SNPYn jäsenet. \nKoulutuksen ohjelma 4.5.2012. \nKoulutuksen ohjelma 25.5.2012.
URL:https://neuropsykologia.fi/tapahtuma/tyonohjaajakoulutus/
CATEGORIES:Yhdistyksen omat koulutukset
END:VEVENT
END:VCALENDAR