BEGIN:VCALENDAR
VERSION:2.0
PRODID:-//Suomen Neuropsykologinen yhdistys - Neuropsykologiska föreningen i Finland r.y. - ECPv6.15.17.1//NONSGML v1.0//EN
CALSCALE:GREGORIAN
METHOD:PUBLISH
X-WR-CALNAME:Suomen Neuropsykologinen yhdistys - Neuropsykologiska föreningen i Finland r.y.
X-ORIGINAL-URL:https://neuropsykologia.fi
X-WR-CALDESC:Tapahtumat Suomen Neuropsykologinen yhdistys - Neuropsykologiska föreningen i Finland r.y.
REFRESH-INTERVAL;VALUE=DURATION:PT1H
X-Robots-Tag:noindex
X-PUBLISHED-TTL:PT1H
BEGIN:VTIMEZONE
TZID:Europe/Helsinki
BEGIN:DAYLIGHT
TZOFFSETFROM:+0200
TZOFFSETTO:+0300
TZNAME:EEST
DTSTART:20110327T010000
END:DAYLIGHT
BEGIN:STANDARD
TZOFFSETFROM:+0300
TZOFFSETTO:+0200
TZNAME:EET
DTSTART:20111030T010000
END:STANDARD
BEGIN:DAYLIGHT
TZOFFSETFROM:+0200
TZOFFSETTO:+0300
TZNAME:EEST
DTSTART:20120325T010000
END:DAYLIGHT
BEGIN:STANDARD
TZOFFSETFROM:+0300
TZOFFSETTO:+0200
TZNAME:EET
DTSTART:20121028T010000
END:STANDARD
BEGIN:DAYLIGHT
TZOFFSETFROM:+0200
TZOFFSETTO:+0300
TZNAME:EEST
DTSTART:20130331T010000
END:DAYLIGHT
BEGIN:STANDARD
TZOFFSETFROM:+0300
TZOFFSETTO:+0200
TZNAME:EET
DTSTART:20131027T010000
END:STANDARD
END:VTIMEZONE
BEGIN:VEVENT
DTSTART;VALUE=DATE:20120427
DTEND;VALUE=DATE:20120428
DTSTAMP:20260421T031835
CREATED:20220209T121712Z
LAST-MODIFIED:20220209T121937Z
UID:666-1335484800-1335571199@neuropsykologia.fi
SUMMARY:Vuosikokousseminaari 2012: Sosiaalisen kognition arvioiminen neuropsykologin työssä
DESCRIPTION:SNPYn vuosikokousseminaari järjestetään 27.4.2012 Helsingissä Folkhälsan talossa osoitteessa Topeliuksenkatu 20. Koulutuspäivän teemana on sosiaalisen kognition arvioiminen neuropsykologin työssä. Koulutuksen hinta on 85e sisältäen kahdet kahvit ja lounaan. Ohessa koulutuksen alustava ohjelma. \nKoulutukseen voi ilmoittautua 13.2 alkaen ja ilmoittautuminen päättyy 13.4. Nykyisin voit ilmoittautua vain yhdistyksen sivujen kautta alla olevasta linkistä (avautuu 13.2). Jos olet kadottanut jäsentunnuksesi\, uuden voit tilata täältä. Selvitäthän jos työnantajasi vastaanottaa verkkolaskuja. Koulutukseen voi osallistua vain SNPYn jäsenet. \nTervetuloa koulutukseen! \nKoulutuksen ohjelma.
URL:https://neuropsykologia.fi/tapahtuma/vuosikokousseminaari-sosiaalisen-kognition-arvioiminen-neuropsykologin-tyossa/
CATEGORIES:Yhdistyksen omat koulutukset
END:VEVENT
END:VCALENDAR